BEGIN:VCALENDAR
VERSION:2.0
PRODID:-//Blas Restaurant - ECPv6.15.11//NONSGML v1.0//EN
CALSCALE:GREGORIAN
METHOD:PUBLISH
X-ORIGINAL-URL:https://blasrestaurant.com
X-WR-CALDESC:Events for Blas Restaurant
REFRESH-INTERVAL;VALUE=DURATION:PT1H
X-Robots-Tag:noindex
X-PUBLISHED-TTL:PT1H
BEGIN:VTIMEZONE
TZID:UTC
BEGIN:STANDARD
TZOFFSETFROM:+0000
TZOFFSETTO:+0000
TZNAME:UTC
DTSTART:20250101T000000
END:STANDARD
END:VTIMEZONE
BEGIN:VEVENT
DTSTART;TZID=UTC:20260501T190000
DTEND;TZID=UTC:20260501T210000
DTSTAMP:20260420T093821
CREATED:20260319T104256Z
LAST-MODIFIED:20260319T104621Z
UID:10000035-1777662000-1777669200@blasrestaurant.com
SUMMARY:Wine & Cheese Tasting Evening
DESCRIPTION:
URL:https://blasrestaurant.com/events/wine-cheese-tasting-evening/2026-05-01/
LOCATION:Blas Restaurant\, Ffordd Caerfai\, St Davids\, Pembrokeshire\, SA62 6QT\, United Kingdom
ATTACH;FMTTYPE=image/jpeg:https://blasrestaurant.com/wp-content/uploads/sites/5/2026/03/BR-Events-WC.jpg
END:VEVENT
BEGIN:VEVENT
DTSTART;TZID=UTC:20260516T140000
DTEND;TZID=UTC:20260516T163000
DTSTAMP:20260420T093821
CREATED:20260122T175037Z
LAST-MODIFIED:20260122T175037Z
UID:10000026-1778940000-1778949000@blasrestaurant.com
SUMMARY:Afternoon Tea at Roch Castle
DESCRIPTION:
URL:https://blasrestaurant.com/events/afternoon-tea-at-roch-castle/2026-05-16/
LOCATION:Roch Castle
ATTACH;FMTTYPE=image/jpeg:https://blasrestaurant.com/wp-content/uploads/sites/5/2026/01/Afternoon-Tea-at-Roch-Castle-01.jpg
END:VEVENT
BEGIN:VEVENT
DTSTART;TZID=UTC:20260605T190000
DTEND;TZID=UTC:20260605T210000
DTSTAMP:20260420T093821
CREATED:20260319T104256Z
LAST-MODIFIED:20260319T104621Z
UID:10000036-1780686000-1780693200@blasrestaurant.com
SUMMARY:Wine & Cheese Tasting Evening
DESCRIPTION:
URL:https://blasrestaurant.com/events/wine-cheese-tasting-evening/2026-06-05/
LOCATION:Blas Restaurant\, Ffordd Caerfai\, St Davids\, Pembrokeshire\, SA62 6QT\, United Kingdom
ATTACH;FMTTYPE=image/jpeg:https://blasrestaurant.com/wp-content/uploads/sites/5/2026/03/BR-Events-WC.jpg
END:VEVENT
BEGIN:VEVENT
DTSTART;TZID=UTC:20260620T140000
DTEND;TZID=UTC:20260620T163000
DTSTAMP:20260420T093821
CREATED:20260122T175037Z
LAST-MODIFIED:20260122T175037Z
UID:10000027-1781964000-1781973000@blasrestaurant.com
SUMMARY:Afternoon Tea at Roch Castle
DESCRIPTION:
URL:https://blasrestaurant.com/events/afternoon-tea-at-roch-castle/2026-06-20/
LOCATION:Roch Castle
ATTACH;FMTTYPE=image/jpeg:https://blasrestaurant.com/wp-content/uploads/sites/5/2026/01/Afternoon-Tea-at-Roch-Castle-01.jpg
END:VEVENT
BEGIN:VEVENT
DTSTART;TZID=UTC:20260621T123000
DTEND;TZID=UTC:20260621T143000
DTSTAMP:20260420T093821
CREATED:20260409T135136Z
LAST-MODIFIED:20260409T135337Z
UID:10000044-1782045000-1782052200@blasrestaurant.com
SUMMARY:Father's Day Sunday Lunch
DESCRIPTION:
URL:https://blasrestaurant.com/events/fathers-day-sunday-lunch/
LOCATION:Blas Restaurant\, Ffordd Caerfai\, St Davids\, Pembrokeshire\, SA62 6QT\, United Kingdom
ATTACH;FMTTYPE=image/jpeg:https://blasrestaurant.com/wp-content/uploads/sites/5/2026/01/Sunday-Lunch-at-Penrhiw-Priory-1.jpg
END:VEVENT
BEGIN:VEVENT
DTSTART;TZID=UTC:20260703T190000
DTEND;TZID=UTC:20260703T210000
DTSTAMP:20260420T093821
CREATED:20260319T104256Z
LAST-MODIFIED:20260319T104621Z
UID:10000037-1783105200-1783112400@blasrestaurant.com
SUMMARY:Wine & Cheese Tasting Evening
DESCRIPTION:
URL:https://blasrestaurant.com/events/wine-cheese-tasting-evening/2026-07-03/
LOCATION:Blas Restaurant\, Ffordd Caerfai\, St Davids\, Pembrokeshire\, SA62 6QT\, United Kingdom
ATTACH;FMTTYPE=image/jpeg:https://blasrestaurant.com/wp-content/uploads/sites/5/2026/03/BR-Events-WC.jpg
END:VEVENT
BEGIN:VEVENT
DTSTART;TZID=UTC:20260718T140000
DTEND;TZID=UTC:20260718T163000
DTSTAMP:20260420T093821
CREATED:20260122T175037Z
LAST-MODIFIED:20260122T175037Z
UID:10000028-1784383200-1784392200@blasrestaurant.com
SUMMARY:Afternoon Tea at Roch Castle
DESCRIPTION:
URL:https://blasrestaurant.com/events/afternoon-tea-at-roch-castle/2026-07-18/
LOCATION:Roch Castle
ATTACH;FMTTYPE=image/jpeg:https://blasrestaurant.com/wp-content/uploads/sites/5/2026/01/Afternoon-Tea-at-Roch-Castle-01.jpg
END:VEVENT
BEGIN:VEVENT
DTSTART;TZID=UTC:20260807T190000
DTEND;TZID=UTC:20260807T210000
DTSTAMP:20260420T093821
CREATED:20260319T104256Z
LAST-MODIFIED:20260319T104621Z
UID:10000038-1786129200-1786136400@blasrestaurant.com
SUMMARY:Wine & Cheese Tasting Evening
DESCRIPTION:
URL:https://blasrestaurant.com/events/wine-cheese-tasting-evening/2026-08-07/
LOCATION:Blas Restaurant\, Ffordd Caerfai\, St Davids\, Pembrokeshire\, SA62 6QT\, United Kingdom
ATTACH;FMTTYPE=image/jpeg:https://blasrestaurant.com/wp-content/uploads/sites/5/2026/03/BR-Events-WC.jpg
END:VEVENT
BEGIN:VEVENT
DTSTART;TZID=UTC:20260822T140000
DTEND;TZID=UTC:20260822T163000
DTSTAMP:20260420T093821
CREATED:20260122T175037Z
LAST-MODIFIED:20260122T175037Z
UID:10000029-1787407200-1787416200@blasrestaurant.com
SUMMARY:Afternoon Tea at Roch Castle
DESCRIPTION:
URL:https://blasrestaurant.com/events/afternoon-tea-at-roch-castle/2026-08-22/
LOCATION:Roch Castle
ATTACH;FMTTYPE=image/jpeg:https://blasrestaurant.com/wp-content/uploads/sites/5/2026/01/Afternoon-Tea-at-Roch-Castle-01.jpg
END:VEVENT
BEGIN:VEVENT
DTSTART;TZID=UTC:20260904T190000
DTEND;TZID=UTC:20260904T210000
DTSTAMP:20260420T093821
CREATED:20260319T104256Z
LAST-MODIFIED:20260319T104621Z
UID:10000039-1788548400-1788555600@blasrestaurant.com
SUMMARY:Wine & Cheese Tasting Evening
DESCRIPTION:
URL:https://blasrestaurant.com/events/wine-cheese-tasting-evening/2026-09-04/
LOCATION:Blas Restaurant\, Ffordd Caerfai\, St Davids\, Pembrokeshire\, SA62 6QT\, United Kingdom
ATTACH;FMTTYPE=image/jpeg:https://blasrestaurant.com/wp-content/uploads/sites/5/2026/03/BR-Events-WC.jpg
END:VEVENT
BEGIN:VEVENT
DTSTART;TZID=UTC:20260919T140000
DTEND;TZID=UTC:20260919T163000
DTSTAMP:20260420T093821
CREATED:20260122T175037Z
LAST-MODIFIED:20260122T175037Z
UID:10000030-1789826400-1789835400@blasrestaurant.com
SUMMARY:Afternoon Tea at Roch Castle
DESCRIPTION:
URL:https://blasrestaurant.com/events/afternoon-tea-at-roch-castle/2026-09-19/
LOCATION:Roch Castle
ATTACH;FMTTYPE=image/jpeg:https://blasrestaurant.com/wp-content/uploads/sites/5/2026/01/Afternoon-Tea-at-Roch-Castle-01.jpg
END:VEVENT
BEGIN:VEVENT
DTSTART;TZID=UTC:20261002T190000
DTEND;TZID=UTC:20261002T210000
DTSTAMP:20260420T093821
CREATED:20260319T104256Z
LAST-MODIFIED:20260319T104621Z
UID:10000040-1790967600-1790974800@blasrestaurant.com
SUMMARY:Wine & Cheese Tasting Evening
DESCRIPTION:
URL:https://blasrestaurant.com/events/wine-cheese-tasting-evening/2026-10-02/
LOCATION:Blas Restaurant\, Ffordd Caerfai\, St Davids\, Pembrokeshire\, SA62 6QT\, United Kingdom
ATTACH;FMTTYPE=image/jpeg:https://blasrestaurant.com/wp-content/uploads/sites/5/2026/03/BR-Events-WC.jpg
END:VEVENT
BEGIN:VEVENT
DTSTART;TZID=UTC:20261017T140000
DTEND;TZID=UTC:20261017T163000
DTSTAMP:20260420T093821
CREATED:20260122T175037Z
LAST-MODIFIED:20260122T175037Z
UID:10000031-1792245600-1792254600@blasrestaurant.com
SUMMARY:Afternoon Tea at Roch Castle
DESCRIPTION:
URL:https://blasrestaurant.com/events/afternoon-tea-at-roch-castle/2026-10-17/
LOCATION:Roch Castle
ATTACH;FMTTYPE=image/jpeg:https://blasrestaurant.com/wp-content/uploads/sites/5/2026/01/Afternoon-Tea-at-Roch-Castle-01.jpg
END:VEVENT
BEGIN:VEVENT
DTSTART;TZID=UTC:20261106T190000
DTEND;TZID=UTC:20261106T210000
DTSTAMP:20260420T093821
CREATED:20260319T104256Z
LAST-MODIFIED:20260319T104621Z
UID:10000041-1793991600-1793998800@blasrestaurant.com
SUMMARY:Wine & Cheese Tasting Evening
DESCRIPTION:
URL:https://blasrestaurant.com/events/wine-cheese-tasting-evening/2026-11-06/
LOCATION:Blas Restaurant\, Ffordd Caerfai\, St Davids\, Pembrokeshire\, SA62 6QT\, United Kingdom
ATTACH;FMTTYPE=image/jpeg:https://blasrestaurant.com/wp-content/uploads/sites/5/2026/03/BR-Events-WC.jpg
END:VEVENT
BEGIN:VEVENT
DTSTART;TZID=UTC:20261114T140000
DTEND;TZID=UTC:20261114T163000
DTSTAMP:20260420T093821
CREATED:20260122T175037Z
LAST-MODIFIED:20260122T175037Z
UID:10000032-1794664800-1794673800@blasrestaurant.com
SUMMARY:Afternoon Tea at Roch Castle
DESCRIPTION:
URL:https://blasrestaurant.com/events/afternoon-tea-at-roch-castle/2026-11-14/
LOCATION:Roch Castle
ATTACH;FMTTYPE=image/jpeg:https://blasrestaurant.com/wp-content/uploads/sites/5/2026/01/Afternoon-Tea-at-Roch-Castle-01.jpg
END:VEVENT
BEGIN:VEVENT
DTSTART;TZID=UTC:20261211T190000
DTEND;TZID=UTC:20261211T210000
DTSTAMP:20260420T093821
CREATED:20260319T104256Z
LAST-MODIFIED:20260319T104621Z
UID:10000042-1797015600-1797022800@blasrestaurant.com
SUMMARY:Wine & Cheese Tasting Evening
DESCRIPTION:
URL:https://blasrestaurant.com/events/wine-cheese-tasting-evening/2026-12-11/
LOCATION:Blas Restaurant\, Ffordd Caerfai\, St Davids\, Pembrokeshire\, SA62 6QT\, United Kingdom
ATTACH;FMTTYPE=image/jpeg:https://blasrestaurant.com/wp-content/uploads/sites/5/2026/03/BR-Events-WC.jpg
END:VEVENT
BEGIN:VEVENT
DTSTART;TZID=UTC:20261219T140000
DTEND;TZID=UTC:20261219T163000
DTSTAMP:20260420T093821
CREATED:20260122T175352Z
LAST-MODIFIED:20260122T175352Z
UID:10000033-1797688800-1797697800@blasrestaurant.com
SUMMARY:Festive Afternoon Tea at Roch Castle
DESCRIPTION:
URL:https://blasrestaurant.com/events/festive-afternoon-tea-at-roch-castle/
LOCATION:Roch Castle
ATTACH;FMTTYPE=image/jpeg:https://blasrestaurant.com/wp-content/uploads/sites/5/2026/01/Afternoon-Tea-at-Roch-Castle-03.jpg
END:VEVENT
END:VCALENDAR